Workbook

Sheet Sheet1
A1: //怪物ID | B1: 备注 | C1: 波次 | D1: 怪物模型 | E1: 是否为BOSS | F1: 怪物血量 | G1: 怪物攻击 | H1: 怪物普攻次数 | I1: 怪物普攻 | J1: 怪物技能 | K1: 被动技能 | L1: 怪物经验
A2: default | B2: none | C2: none | D2: default | E2: default | F2: default | G2: default | H2: default | I2: default | J2: default | K2: default | L2: default
A3: *id | B3: desc | C3: wave | D3: monster_base | E3: is_boss | F3: hp | G3: atk | H3: atk_times | I3: hurt_skill | J3: skill | K3: passive_skill | L3: monster_exp
A4: int | B4: string | C4: string | D4: int | E4: int | F4: int | G4: int | H4: int | I4: [int] | J4: [int] | K4: [int] | L4: int
A5: 102 | B5: 哥布林匕首(蓝) | C5: 随机关卡1第1波 | D5: 10001 | F5: 21820000 | G5: 610000 | H5: 3 | I5: [20001,20002,20003] | L5: 11000
A6: =A5+100 -> 202 | B6: 哥布林斧头(红) | C6: 随机关卡1第2波 | D6: 10002 | F6: 30000000 | G6: 660000 | H6: 3 | I6: [20004,20005,20006] | L6: 11000
A7: =A6+100 -> 302 | B7: 哥布林匕首(紫) | C7: 随机关卡1第3波 | D7: 10003 | F7: 32730000 | G7: 710000 | H7: 3 | I7: [20007,20008,20009] | L7: 17000
A8: =A7+100 -> 402 | B8: 哥布林法师(蓝) | C8: 随机关卡1第4波 | D8: 10005 | F8: 40910000 | G8: 760000 | H8: 3 | I8: [20013,20014,20015] | L8: 19000
A9: =A8+100 -> 502 | B9: 精英哥布林（绿） | C9: 随机关卡1第5波BOSS | D9: 20004 | E9: 1 | F9: 62730000 | G9: 910000 | H9: 4 | I9: [30010,30011,30012] | L9: 18000
A10: =A9+100 -> 602 | B10: 骷髅弓箭手 | C10: 随机关卡1第6波 | D10: 10038 | F10: 40910000 | G10: 760000 | H10: 3 | I10: [20109,20110,20111] | L10: 9000
A11: =A10+100 -> 702 | B11: 骷髅小法师 | C11: 随机关卡1第7波 | D11: 10040 | F11: 46360000 | G11: 810000 | H11: 3 | I11: [20115,20116,20117] | L11: 10000
A12: =A11+100 -> 802 | B12: 骷髅枪兵 | C12: 随机关卡1第8波 | D12: 10010 | F12: 54550000 | G12: 810000 | H12: 3 | I12: [20028,20029,20030] | L12: 11000
A13: =A12+100 -> 902 | B13: 盾刀骷髅兵 | C13: 随机关卡1第9波 | D13: 10009 | F13: 60000000 | G13: 850000 | H13: 3 | I13: [20025,20026,20027] | L13: 12000
A14: =A13+100 -> 1002 | B14: 骷髅法师 | C14: 随机关卡1第10波BOSS | D14: 20017 | E14: 1 | F14: 114550000 | G14: 980000 | H14: 4 | I14: [30049,30050,30051] | J14: [10027] | L14: 12000
A15: =A14+100 -> 1102 | B15: 哥布林斧头(红) | C15: 随机关卡1第11波 | D15: 10002 | F15: 62730000 | G15: 850000 | H15: 3 | I15: [20004,20005,20006] | L15: 16000
A16: =A15+100 -> 1202 | B16: 盾刀骷髅兵 | C16: 随机关卡1第12波 | D16: 10009 | F16: 76360000 | G16: 910000 | H16: 3 | I16: [20025,20026,20027] | L16: 18000
A17: =A16+100 -> 1302 | B17: 哥布林匕首(蓝) | C17: 随机关卡1第13波 | D17: 10001 | F17: 84550000 | G17: 950000 | H17: 3 | I17: [20001,20002,20003] | L17: 21000
A18: =A17+100 -> 1402 | B18: 盾刀骷髅兵（有头盔） | C18: 随机关卡1第14波 | D18: 10039 | F18: 95450000 | G18: 1000000 | H18: 3 | I18: [20112,20113,20114] | L18: 22000
A19: =A18+100 -> 1502 | B19: 钢盾红首领 | C19: 随机关卡1第15波BOSS | D19: 20015 | E19: 1 | F19: 141820000 | G19: 1070000 | H19: 4 | I19: [30043,30044,30045] | J19: [10070] | K19: [10008] | L19: 24000
A20: =A19+100 -> 1602 | B20: 蓝发剑士 | C20: 随机关卡1第16波 | D20: 10031 | F20: 109090000 | G20: 1060000 | H20: 3 | I20: [20088,20089,20090] | L20: 15000
A21: =A20+100 -> 1702 | B21: 剑盾士兵（黄发） | C21: 随机关卡1第17波 | D21: 10034 | F21: 120000000 | G21: 1100000 | H21: 3 | I21: [20097,20098,20099] | L21: 16000
A22: =A21+100 -> 1802 | B22: 女巫师（蓝） | C22: 随机关卡1第18波 | D22: 10032 | F22: 136360000 | G22: 1150000 | H22: 3 | I22: [20091,20092,20093] | L22: 17000
A23: =A22+100 -> 1902 | B23: 剑盾士兵（蓝发） | C23: 随机关卡1第19波 | D23: 10035 | F23: 147270000 | G23: 1190000 | H23: 3 | I23: [20100,20101,20102] | L23: 17000
A24: =A23+100 -> 2002 | B24: 王之巨龙 | C24: 随机关卡1第20波终点BOSS | D24: 20003 | E24: 2 | F24: 245450000 | G24: 1640000 | H24: 4 | I24: [30007,30008,30009] | J24: [10029] | K24: [10013] | L24: 22000
A25: =A24+100 -> 2102 | B25: 黄发剑士 | C25: 随机关卡2径第1波 | D25: 10030 | F25: 21820000 | G25: 610000 | H25: 3 | I25: [20085,20086,20087] | L25: 11000
A26: =A25+100 -> 2202 | B26: 剑盾士兵（蓝发） | C26: 随机关卡2径第2波 | D26: 10035 | F26: 30000000 | G26: 660000 | H26: 3 | I26: [20100,20101,20102] | L26: 11000
A27: =A26+100 -> 2302 | B27: 盾刀骷髅兵（有头盔） | C27: 随机关卡2径第3波 | D27: 10039 | F27: 32730000 | G27: 710000 | H27: 3 | I27: [20112,20113,20114] | L27: 17000
A28: =A27+100 -> 2402 | B28: 骷髅枪兵 | C28: 随机关卡2径第4波 | D28: 10010 | F28: 40910000 | G28: 760000 | H28: 3 | I28: [20028,20029,20030] | L28: 19000
A29: =A28+100 -> 2502 | B29: 精英哥布林（红） | C29: 随机关卡2径第5波BOSS | D29: 20007 | E29: 1 | F29: 62730000 | G29: 910000 | H29: 4 | I29: [30019,30020,30021] | J29: [10060] | K29: [10061] | L29: 18000
A30: =A29+100 -> 2602 | B30: 蓝色独眼蝙蝠 | C30: 随机关卡2径第6波 | D30: 10044 | F30: 40910000 | G30: 760000 | H30: 3 | I30: [20127,20128,20129] | L30: 9000
A31: =A30+100 -> 2702 | B31: 骷髅弓箭手 | C31: 随机关卡2径第7波 | D31: 10038 | F31: 46360000 | G31: 810000 | H31: 3 | I31: [20109,20110,20111] | L31: 10000
A32: =A31+100 -> 2802 | B32: 小史莱姆（蓝） | C32: 随机关卡2径第8波 | D32: 10022 | F32: 54550000 | G32: 810000 | H32: 3 | I32: [20061,20062,20063] | L32: 11000
A33: =A32+100 -> 2902 | B33: 大史莱姆（蓝） | C33: 随机关卡2径第9波 | D33: 10026 | F33: 60000000 | G33: 850000 | H33: 3 | I33: [20073,20074,20075] | L33: 12000
A34: =A33+100 -> 3002 | B34: 钢盾绿首领 | C34: 随机关卡2径第10波BOSS | D34: 20014 | E34: 1 | F34: 114550000 | G34: 980000 | H34: 4 | I34: [30040,30041,30042] | J34: [10016] | K34: [10010] | L34: 12000
A35: =A34+100 -> 3102 | B35: 小史莱姆（绿） | C35: 随机关卡2第11波 | D35: 10020 | F35: 62730000 | G35: 850000 | H35: 3 | I35: [20055,20056,20057] | L35: 16000
A36: =A35+100 -> 3202 | B36: 哥布林法师（绿） | C36: 随机关卡2第12波 | D36: 10006 | F36: 76360000 | G36: 910000 | H36: 3 | I36: [20016,20017,20018] | L36: 18000
A37: =A36+100 -> 3302 | B37: 大史莱姆（蓝） | C37: 随机关卡2第13波 | D37: 10026 | F37: 84550000 | G37: 950000 | H37: 3 | I37: [20073,20074,20075] | L37: 21000
A38: =A37+100 -> 3402 | B38: 兽人大刀兵（红） | C38: 随机关卡2第14波 | D38: 10014 | F38: 95450000 | G38: 1000000 | H38: 3 | I38: [20037,20038,20039] | L38: 22000
A39: =A38+100 -> 3502 | B39: 丛林神猎手 | C39: 随机关卡2第15波BOSS | D39: 20002 | E39: 1 | F39: 141820000 | G39: 1070000 | H39: 4 | I39: [30004,30005,30006] | J39: [10019] | L39: 24000
A40: =A39+100 -> 3602 | B40: 哥布林法师（红） | C40: 随机关卡2第16波 | D40: 10008 | F40: 109090000 | G40: 1060000 | H40: 3 | I40: [20022,20023,20024] | L40: 15000
...

Sheet Sheet2
C1: 普攻 | D1: 主动 | E1: 被动
A2: 哥布林匕首(蓝) | B2: 10001 | C2: [20001,20002,20003]
A3: 哥布林斧头(红) | B3: 10002 | C3: [20004,20005,20006]
A4: 哥布林匕首(紫) | B4: 10003 | C4: [20007,20008,20009]
A5: 哥布林棍棒(绿) | B5: 10004 | C5: [20010,20011,20012]
A6: 哥布林法师(蓝) | B6: 10005 | C6: [20013,20014,20015]
A7: 哥布林法师（绿） | B7: 10006 | C7: [20016,20017,20018]
A8: 哥布林法师（紫） | B8: 10007 | C8: [20019,20020,20021]
A9: 哥布林法师（红） | B9: 10008 | C9: [20022,20023,20024]
A10: 盾刀骷髅兵 | B10: 10009 | C10: [20025,20026,20027]
A11: 骷髅枪兵 | B11: 10010 | C11: [20028,20029,20030]
A12: 兽人大刀兵（绿） | B12: 10012 | C12: [20031,20032,20033]
A13: 兽人大刀兵（蓝） | B13: 10013 | C13: [20034,20035,20036]
... A77: 丑章鱼（红） | B77: 10077 | C77: [20220,20221,20222]
A79: 丛林神射手 | B79: 20001 | C79: [30001,30002,30003] | D79: [10020]
A80: 丛林神猎手 | B80: 20002 | C80: [30004,30005,30006] | D80: [10019]
A81: 王之巨龙 | B81: 20003 | C81: [30007,30008,30009] | D81: [10029] | E81: [10013]
A82: 精英哥布林（绿） | B82: 20004 | C82: [30010,30011,30012] | D82: [10015]
A83: 远古堡垒 | B83: 20005 | C83: [30013,30014,30015] | D83: [10024] | E83: [10012]
A84: 绿龟刚铠 | B84: 20006 | C84: [30016,30017,30018] | D84: [10033] | E84: [10010]
A85: 精英哥布林（红） | B85: 20007 | C85: [30019,30020,30021] | D85: [10060] | E85: [10061]
A86: 石巨人 | B86: 20008 | C86: [30022,30023,30024] | D86: [10032] | E86: [10009]
A87: 树精祭祀 | B87: 20009 | C87: [30025,30026,30027] | D87: [10039] | E87: [10010,10011]
A88: 火灵守卫 | B88: 20010 | C88: [30028,30029,30030] | D88: [10041,10066] | E88: [10008,10009,10013]
A89: 地精魔像 | B89: 20011 | C89: [30031,30032,30033] | D89: [10018]
A90: 骷髅王 | B90: 20012 | C90: [30034,30035,30036] | D90: [10017]
A91: 小丑之王 | B91: 20013 | C91: [30037,30038,30039] | D91: [10049,10050]
A92: 钢盾绿首领 | B92: 20014 | C92: [30040,30041,30042] | D92: [10016]
A93: 钢盾红首领 | B93: 20015 | C93: [30043,30044,30045] | D93: [10070] | E93: [10008]
A94: 独眼旋风 | B94: 20016 | C94: [30046,30047,30048] | D94: [10036] | E94: [10010,10011]
A95: 骷髅法师 | B95: 20017 | C95: [30049,30050,30051] | D95: [10027]
A96: 恶毒法师 | B96: 20018 | C96: [30052,30053,30054] | D96: [10051] | E96: [10011,10012]
A97: 火灵刀客 | B97: 20019 | C97: [30055,30056,30057] | D97: [10045] | E97: [10046,10013]
A98: 火灵王 | B98: 20020 | C98: [30058,30059,30060] | D98: [10047] | E98: [10048,10013]
A99: 卓一德DH | B99: 20021 | C99: [30061,30062,30063] | D99: [10034] | E99: [10011,10008]
A100: 雪人铁匠 | B100: 20022 | C100: [30064,30065,30066] | D100: [10023] | E100: [10013]
A101: 雪人精英 | B101: 20023
A102: 飞天魔 | B102: 20024 | C102: [30070,30071,30072] | D102: [10043,10044] | E102: [10012]
A103: 雪人铁匠（红） | B103: 20025 | C103: [30073,30074,30075] | D103: [10062] | E103: [10013]
A104: 雪人精英（红） | B104: 20026
...

Sheet Sheet3
