Workbook

Sheet Sheet1
A1: //怪物ID | B1: 备注 | C1: 波次 | D1: 怪物模型 | E1: 是否为BOSS | F1: 怪物血量 | G1: 怪物攻击 | H1: 怪物普攻次数 | I1: 怪物普攻 | J1: 怪物技能 | K1: 被动技能 | L1: 怪物经验
A2: default | B2: none | C2: none | D2: default | E2: default | F2: default | G2: default | H2: default | I2: default | J2: default | K2: default | L2: default
A3: *id | B3: desc | C3: wave | D3: monster_base | E3: is_boss | F3: hp | G3: atk | H3: atk_times | I3: hurt_skill | J3: skill | K3: passive_skill | L3: monster_exp
A4: int | B4: string | C4: string | D4: int | E4: int | F4: int | G4: int | H4: int | I4: [int] | J4: [int] | K4: [int] | L4: int
A5: 102 | B5: 哥布林匕首(蓝) | C5: 随机关卡1第1波 | D5: 10001 | F5: 21820000 | G5: 610000 | H5: 3 | I5: [20001,20002,20003] | L5: 11000
A6: =A5+100 -> 202 | B6: 哥布林斧头(红) | C6: 随机关卡1第2波 | D6: 10002 | F6: 30000000 | G6: 660000 | H6: 3 | I6: [20004,20005,20006] | L6: 11000
A7: =A6+100 -> 302 | B7: 哥布林匕首(紫) | C7: 随机关卡1第3波 | D7: 10003 | F7: 32730000 | G7: 710000 | H7: 3 | I7: [20007,20008,20009] | L7: 17000
A8: =A7+100 -> 402 | B8: 哥布林法师(蓝) | C8: 随机关卡1第4波 | D8: 10005 | F8: 40910000 | G8: 760000 | H8: 3 | I8: [20013,20014,20015] | L8: 19000
A9: =A8+100 -> 502 | B9: 精英哥布林（绿） | C9: 随机关卡1第5波BOSS | D9: 20004 | E9: 1 | F9: 62730000 | G9: 910000 | H9: 4 | I9: [30010,30011,30012] | L9: 18000
A10: =A9+100 -> 602 | B10: 骷髅弓箭手 | C10: 随机关卡1第6波 | D10: 10038 | F10: 40910000 | G10: 760000 | H10: 3 | I10: [20109,20110,20111] | L10: 9000
A11: =A10+100 -> 702 | B11: 骷髅小法师 | C11: 随机关卡1第7波 | D11: 10040 | F11: 46360000 | G11: 810000 | H11: 3 | I11: [20115,20116,20117] | L11: 10000
A12: =A11+100 -> 802 | B12: 骷髅枪兵 | C12: 随机关卡1第8波 | D12: 10010 | F12: 54550000 | G12: 810000 | H12: 3 | I12: [20028,20029,20030] | L12: 11000
A13: =A12+100 -> 902 | B13: 盾刀骷髅兵 | C13: 随机关卡1第9波 | D13: 10009 | F13: 60000000 | G13: 850000 | H13: 3 | I13: [20025,20026,20027] | L13: 12000
A14: =A13+100 -> 1002 | B14: 骷髅法师 | C14: 随机关卡1第10波BOSS | D14: 20017 | E14: 1 | F14: 114550000 | G14: 980000 | H14: 4 | I14: [30049,30050,30051] | J14: [10027] | L14: 12000
A15: =A14+100 -> 1102 | B15: 哥布林斧头(红) | C15: 随机关卡1第11波 | D15: 10002 | F15: 62730000 | G15: 850000 | H15: 3 | I15: [20004,20005,20006] | L15: 16000
A16: =A15+100 -> 1202 | B16: 盾刀骷髅兵 | C16: 随机关卡1第12波 | D16: 10009 | F16: 76360000 | G16: 910000 | H16: 3 | I16: [20025,20026,20027] | L16: 18000
A17: =A16+100 -> 1302 | B17: 哥布林匕首(蓝) | C17: 随机关卡1第13波 | D17: 10001 | F17: 84550000 | G17: 950000 | H17: 3 | I17: [20001,20002,20003] | L17: 21000
A18: =A17+100 -> 1402 | B18: 盾刀骷髅兵（有头盔） | C18: 随机关卡1第14波 | D18: 10039 | F18: 95450000 | G18: 1000000 | H18: 3 | I18: [20112,20113,20114] | L18: 22000
A19: =A18+100 -> 1502 | B19: 钢盾红首领 | C19: 随机关卡1第15波BOSS | D19: 20015 | E19: 1 | F19: 141820000 | G19: 1070000 | H19: 4 | I19: [30043,30044,30045] | J19: [10070] | K19: [10008] | L19: 24000
A20: =A19+100 -> 1602 | B20: 蓝发剑士 | C20: 随机关卡1第16波 | D20: 10031 | F20: 109090000 | G20: 1060000 | H20: 3 | I20: [20088,20089,20090] | L20: 15000
A21: =A20+100 -> 1702 | B21: 剑盾士兵（黄发） | C21: 随机关卡1第17波 | D21: 10034 | F21: 120000000 | G21: 1100000 | H21: 3 | I21: [20097,20098,20099] | L21: 16000
A22: =A21+100 -> 1802 | B22: 女巫师（蓝） | C22: 随机关卡1第18波 | D22: 10032 | F22: 136360000 | G22: 1150000 | H22: 3 | I22: [20091,20092,20093] | L22: 17000
A23: =A22+100 -> 1902 | B23: 剑盾士兵（蓝发） | C23: 随机关卡1第19波 | D23: 10035 | F23: 147270000 | G23: 1190000 | H23: 3 | I23: [20100,20101,20102] | L23: 17000
A24: =A23+100 -> 2002 | B24: 王之巨龙 | C24: 随机关卡1第20波终点BOSS | D24: 20003 | E24: 2 | F24: 245450000 | G24: 1640000 | H24: 4 | I24: [30007,30008,30009] | J24: [10029] | K24: [10013] | L24: 22000
A25: =A24+100 -> 2102 | B25: 黄发剑士 | C25: 随机关卡2径第1波 | D25: 10030 | F25: 21820000 | G25: 610000 | H25: 3 | I25: [20085,20086,20087] | L25: 11000
A26: =A25+100 -> 2202 | B26: 剑盾士兵（蓝发） | C26: 随机关卡2径第2波 | D26: 10035 | F26: 30000000 | G26: 660000 | H26: 3 | I26: [20100,20101,20102] | L26: 11000
A27: =A26+100 -> 2302 | B27: 盾刀骷髅兵（有头盔） | C27: 随机关卡2径第3波 | D27: 10039 | F27: 32730000 | G27: 710000 | H27: 3 | I27: [20112,20113,20114] | L27: 17000
A28: =A27+100 -> 2402 | B28: 骷髅枪兵 | C28: 随机关卡2径第4波 | D28: 10010 | F28: 40910000 | G28: 760000 | H28: 3 | I28: [20028,20029,20030] | L28: 19000
A29: =A28+100 -> 2502 | B29: 精英哥布林（红） | C29: 随机关卡2径第5波BOSS | D29: 20007 | E29: 1 | F29: 62730000 | G29: 910000 | H29: 4 | I29: [30019,30020,30021] | J29: [10060] | K29: [10061] | L29: 18000
A30: =A29+100 -> 2602 | B30: 蓝色独眼蝙蝠 | C30: 随机关卡2径第6波 | D30: 10044 | F30: 40910000 | G30: 760000 | H30: 3 | I30: [20127,20128,20129] | L30: 9000
A31: =A30+100 -> 2702 | B31: 骷髅弓箭手 | C31: 随机关卡2径第7波 | D31: 10038 | F31: 46360000 | G31: 810000 | H31: 3 | I31: [20109,20110,20111] | L31: 10000
A32: =A31+100 -> 2802 | B32: 小史莱姆（蓝） | C32: 随机关卡2径第8波 | D32: 10022 | F32: 54550000 | G32: 810000 | H32: 3 | I32: [20061,20062,20063] | L32: 11000
A33: =A32+100 -> 2902 | B33: 大史莱姆（蓝） | C33: 随机关卡2径第9波 | D33: 10026 | F33: 60000000 | G33: 850000 | H33: 3 | I33: [20073,20074,20075] | L33: 12000
A34: =A33+100 -> 3002 | B34: 钢盾绿首领 | C34: 随机关卡2径第10波BOSS | D34: 20014 | E34: 1 | F34: 114550000 | G34: 980000 | H34: 4 | I34: [30040,30041,30042] | J34: [10016] | K34: [10010] | L34: 12000
A35: =A34+100 -> 3102 | B35: 小史莱姆（绿） | C35: 随机关卡2第11波 | D35: 10020 | F35: 62730000 | G35: 850000 | H35: 3 | I35: [20055,20056,20057] | L35: 16000
A36: =A35+100 -> 3202 | B36: 哥布林法师（绿） | C36: 随机关卡2第12波 | D36: 10006 | F36: 76360000 | G36: 910000 | H36: 3 | I36: [20016,20017,20018] | L36: 18000
A37: =A36+100 -> 3302 | B37: 大史莱姆（蓝） | C37: 随机关卡2第13波 | D37: 10026 | F37: 84550000 | G37: 950000 | H37: 3 | I37: [20073,20074,20075] | L37: 21000
A38: =A37+100 -> 3402 | B38: 兽人大刀兵（红） | C38: 随机关卡2第14波 | D38: 10014 | F38: 95450000 | G38: 1000000 | H38: 3 | I38: [20037,20038,20039] | L38: 22000
A39: =A38+100 -> 3502 | B39: 丛林神猎手 | C39: 随机关卡2第15波BOSS | D39: 20002 | E39: 1 | F39: 141820000 | G39: 1070000 | H39: 4 | I39: [30004,30005,30006] | J39: [10019] | L39: 24000
A40: =A39+100 -> 3602 | B40: 哥布林法师（红） | C40: 随机关卡2第16波 | D40: 10008 | F40: 109090000 | G40: 1060000 | H40: 3 | I40: [20022,20023,20024] | L40: 15000
A41: =A40+100 -> 3702 | B41: 女巫师（紫） | C41: 随机关卡2第17波 | D41: 10033 | F41: 120000000 | G41: 1100000 | H41: 3 | I41: [20094,20095,20096] | L41: 16000
A42: =A41+100 -> 3802 | B42: 兽人大刀兵（红） | C42: 随机关卡2第18波 | D42: 10014 | F42: 136360000 | G42: 1150000 | H42: 3 | I42: [20037,20038,20039] | L42: 17000
A43: =A42+100 -> 3902 | B43: 女巫师（蓝） | C43: 随机关卡2第19波 | D43: 10032 | F43: 147270000 | G43: 1190000 | H43: 3 | I43: [20091,20092,20093] | L43: 17000
A44: =A43+100 -> 4002 | B44: 卓一德DH | C44: 随机关卡2第20波终点BOSS | D44: 20021 | E44: 2 | F44: 245450000 | G44: 1640000 | H44: 4 | I44: [30061,30062,30063] | J44: [10034] | K44: [10011,10008] | L44: 22000
A45: =A44+100 -> 4102 | B45: 蓝色独眼蝙蝠 | C45: 随机关卡3第1波 | D45: 10044 | F45: 21820000 | G45: 610000 | H45: 3 | I45: [20127,20128,20129] | L45: 11000
A46: =A45+100 -> 4202 | B46: 哥布林棍棒(绿) | C46: 随机关卡3第2波 | D46: 10001 | F46: 30000000 | G46: 660000 | H46: 3 | I46: [20001,20002,20003] | L46: 11000
A47: =A46+100 -> 4302 | B47: 小史莱姆（红） | C47: 随机关卡3第3波 | D47: 10038 | F47: 32730000 | G47: 710000 | H47: 3 | I47: [20109,20110,20111] | L47: 17000
A48: =A47+100 -> 4402 | B48: 哥布林法师（紫） | C48: 随机关卡3第4波 | D48: 10022 | F48: 40910000 | G48: 760000 | H48: 3 | I48: [20061,20062,20063] | L48: 19000
A49: =A48+100 -> 4502 | B49: 精英哥布林（红） | C49: 随机关卡3第5波BOSS | D49: 20007 | E49: 1 | F49: 62730000 | G49: 910000 | H49: 4 | I49: [30019,30020,30021] | J49: [10060] | K49: [10061] | L49: 18000
A50: =A49+100 -> 4602 | B50: 兽人大刀兵（蓝） | C50: 随机关卡3第6波 | D50: 10013 | F50: 40910000 | G50: 760000 | H50: 3 | I50: [20034,20035,20036] | L50: 9000
A51: =A50+100 -> 4702 | B51: 哥布林法师(蓝) | C51: 随机关卡3第7波 | D51: 10005 | F51: 46360000 | G51: 810000 | H51: 3 | I51: [20013,20014,20015] | L51: 10000
A52: =A51+100 -> 4802 | B52: 大史莱姆（蓝） | C52: 随机关卡3第8波 | D52: 10026 | F52: 54550000 | G52: 810000 | H52: 3 | I52: [20073,20074,20075] | L52: 11000
A53: =A52+100 -> 4902 | B53: 蓝色恶魔野猪 | C53: 随机关卡3第9波 | D53: 10042 | F53: 60000000 | G53: 850000 | H53: 3 | I53: [20121,20122,20123] | L53: 12000
A54: =A53+100 -> 5002 | B54: 绿龟刚铠 | C54: 随机关卡3第10波BOSS | D54: 20006 | E54: 1 | F54: 114550000 | G54: 980000 | H54: 4 | I54: [30016,30017,30018] | J54: [10033] | K54: [10010] | L54: 12000
A55: =A54+100 -> 5102 | B55: 红色蜥蜴剑士 | C55: 随机关卡3第11波 | D55: 10047 | F55: 62730000 | G55: 850000 | H55: 3 | I55: [20136,20137,20138] | L55: 16000
A56: =A55+100 -> 5202 | B56: 骷髅弓箭手 | C56: 随机关卡3第12波 | D56: 10038 | F56: 76360000 | G56: 910000 | H56: 3 | I56: [20109,20110,20111] | L56: 18000
A57: =A56+100 -> 5302 | B57: 小史莱姆（黄） | C57: 随机关卡3第13波 | D57: 10021 | F57: 84550000 | G57: 950000 | H57: 3 | I57: [20058,20059,20060] | L57: 21000
A58: =A57+100 -> 5402 | B58: 骷髅小法师 | C58: 随机关卡3第14波 | D58: 10040 | F58: 95450000 | G58: 1000000 | H58: 3 | I58: [20115,20116,20117] | L58: 22000
A59: =A58+100 -> 5502 | B59: 树精祭祀 | C59: 随机关卡3第15波BOSS | D59: 20009 | E59: 1 | F59: 141820000 | G59: 1070000 | H59: 4 | I59: [30025,30026,30027] | J59: [10039] | K59: [10010,10011] | L59: 24000
A60: =A59+100 -> 5602 | B60: 兽人盾骨兵（蓝） | C60: 随机关卡3第16波 | D60: 10019 | F60: 109090000 | G60: 1060000 | H60: 3 | I60: [20052,20053,20054] | L60: 15000
A61: =A60+100 -> 5702 | B61: 小史莱姆（红） | C61: 随机关卡3第17波 | D61: 10023 | F61: 120000000 | G61: 1100000 | H61: 3 | I61: [20064,20065,20066] | L61: 16000
A62: =A61+100 -> 5802 | B62: 哥布林法师（红） | C62: 随机关卡3第18波 | D62: 10008 | F62: 136360000 | G62: 1150000 | H62: 3 | I62: [20022,20023,20024] | L62: 17000
A63: =A62+100 -> 5902 | B63: 女巫师（紫） | C63: 随机关卡3第19波 | D63: 10033 | F63: 147270000 | G63: 1190000 | H63: 3 | I63: [20094,20095,20096] | L63: 17000
A64: =A63+100 -> 6002 | B64: 独眼旋风 | C64: 随机关卡3第20波终点BOSS | D64: 20016 | E64: 2 | F64: 245450000 | G64: 1640000 | H64: 4 | I64: [30046,30047,30048] | J64: [10036] | K64: [10010,10011] | L64: 22000
A65: =A64+100 -> 6102 | B65: 哥布林匕首(蓝) | C65: 随机关卡4第1波 | D65: 10001 | F65: 21820000 | G65: 610000 | H65: 3 | I65: [20001,20002,20003] | L65: 11000
A66: =A65+100 -> 6202 | B66: 哥布林法师(蓝) | C66: 随机关卡4第2波 | D66: 10005 | F66: 30000000 | G66: 660000 | H66: 3 | I66: [20013,20014,20015] | L66: 11000
A67: =A66+100 -> 6302 | B67: 蓝色蝙蝠恶魔 | C67: 随机关卡4第3波 | D67: 10041 | F67: 32730000 | G67: 710000 | H67: 3 | I67: [20118,20119,20120] | L67: 17000
A68: =A67+100 -> 6402 | B68: 兽人大刀兵（蓝） | C68: 随机关卡4第4波 | D68: 10013 | F68: 40910000 | G68: 760000 | H68: 3 | I68: [20034,20035,20036] | L68: 19000
A69: =A68+100 -> 6502 | B69: 雪人精英（红） | C69: 随机关卡4第5波BOSS | D69: 20026 | E69: 1 | F69: 62730000 | G69: 910000 | H69: 4 | I69: [30076,30077,30078] | J69: [10064] | K69: [10013] | L69: 18000
A70: =A69+100 -> 6602 | B70: 紫色独眼蝙蝠 | C70: 随机关卡4第6波 | D70: 10043 | F70: 40910000 | G70: 760000 | H70: 3 | I70: [20124,20125,20126] | L70: 9000
A71: =A70+100 -> 6702 | B71: 红色蜥蜴剑士 | C71: 随机关卡4第7波 | D71: 10047 | F71: 46360000 | G71: 810000 | H71: 3 | I71: [20136,20137,20138] | L71: 10000
A72: =A71+100 -> 6802 | B72: 哥布林法师（绿） | C72: 随机关卡4第8波 | D72: 10006 | F72: 54550000 | G72: 810000 | H72: 3 | I72: [20016,20017,20018] | L72: 11000
A73: =A72+100 -> 6902 | B73: 紫色鬼火 | C73: 随机关卡4第9波 | D73: 10053 | F73: 60000000 | G73: 850000 | H73: 3 | I73: [20154,20155,20156] | L73: 12000
A74: =A73+100 -> 7002 | B74: 火灵守卫 | C74: 随机关卡4第10波BOSS | D74: 20010 | E74: 1 | F74: 114550000 | G74: 980000 | H74: 4 | I74: [30028,30029,30030] | J74: [10041,10066] | K74: [10008,10009,10013] | L74: 12000
A75: =A74+100 -> 7102 | B75: 大史莱姆（绿） | C75: 随机关卡4第11波 | D75: 10024 | F75: 62730000 | G75: 850000 | H75: 3 | I75: [20067,20068,20069] | L75: 16000
A76: =A75+100 -> 7202 | B76: 蓝色独眼蝙蝠 | C76: 随机关卡4第12波 | D76: 10044 | F76: 76360000 | G76: 910000 | H76: 3 | I76: [20127,20128,20129] | L76: 18000
A77: =A76+100 -> 7302 | B77: 兽人盾骨兵（绿） | C77: 随机关卡4第13波 | D77: 10016 | F77: 84550000 | G77: 950000 | H77: 3 | I77: [20043,20044,20045] | L77: 21000
A78: =A77+100 -> 7402 | B78: 兽人盾骨兵（蓝） | C78: 随机关卡4第14波 | D78: 10019 | F78: 95450000 | G78: 1000000 | H78: 3 | I78: [20052,20053,20054] | L78: 22000
A79: =A78+100 -> 7502 | B79: 石巨人 | C79: 随机关卡4第15波BOSS | D79: 20008 | E79: 1 | F79: 141820000 | G79: 1070000 | H79: 4 | I79: [30022,30023,30024] | J79: [10032] | K79: [10009] | L79: 24000
A80: =A79+100 -> 7602 | B80: 红色蝙蝠恶魔 | C80: 随机关卡4第16波 | D80: 10052 | F80: 109090000 | G80: 1060000 | H80: 3 | I80: [20151,20152,20153] | L80: 15000
A81: =A80+100 -> 7702 | B81: 紫色独眼蝙蝠 | C81: 随机关卡4第17波 | D81: 10043 | F81: 120000000 | G81: 1100000 | H81: 3 | I81: [20124,20125,20126] | L81: 16000
A82: =A81+100 -> 7802 | B82: 黑色食人花 | C82: 随机关卡4第18波 | D82: 10050 | F82: 136360000 | G82: 1150000 | H82: 3 | I82: [20145,20146,20147] | L82: 17000
A83: =A82+100 -> 7902 | B83: 青绿鬼火 | C83: 随机关卡4第19波 | D83: 10054 | F83: 147270000 | G83: 1190000 | H83: 3 | I83: [20157,20158,20159] | L83: 17000
A84: =A83+100 -> 8002 | B84: 飞天魔 | C84: 随机关卡4第20波终点BOSS | D84: 20024 | E84: 2 | F84: 245450000 | G84: 1640000 | H84: 4 | I84: [30070,30071,30072] | J84: [10043,10044] | K84: [10012] | L84: 22000
A85: =A84+100 -> 8102 | B85: 紫色蜘蛛 | C85: 随机关卡5第1波 | D85: 10045 | F85: 21820000 | G85: 610000 | H85: 3 | I85: [20130,20131,20132] | L85: 11000
A86: =A85+100 -> 8202 | B86: 红色蜥蜴剑士 | C86: 随机关卡5第2波 | D86: 10047 | F86: 30000000 | G86: 660000 | H86: 3 | I86: [20136,20137,20138] | L86: 11000
A87: =A86+100 -> 8302 | B87: 骷髅枪兵 | C87: 随机关卡5第3波 | D87: 10010 | F87: 32730000 | G87: 710000 | H87: 3 | I87: [20028,20029,20030] | L87: 17000
A88: =A87+100 -> 8402 | B88: 盾刀骷髅兵（有头盔） | C88: 随机关卡5第4波 | D88: 10039 | F88: 40910000 | G88: 760000 | H88: 3 | I88: [20112,20113,20114] | L88: 19000
A89: =A88+100 -> 8502 | B89: 骷髅王 | C89: 随机关卡5第5波BOSS | D89: 20012 | E89: 1 | F89: 62730000 | G89: 910000 | H89: 4 | I89: [30034,30035,30036] | J89: [10017] | L89: 18000
A90: =A89+100 -> 8602 | B90: 魔都小枪兵（紫） | C90: 随机关卡5第6波 | D90: 10058 | F90: 40910000 | G90: 760000 | H90: 3 | I90: [20169,20170,20171] | L90: 9000
A91: =A90+100 -> 8702 | B91: 大史莱姆（绿） | C91: 随机关卡5第7波 | D91: 10024 | F91: 46360000 | G91: 810000 | H91: 3 | I91: [20067,20068,20069] | L91: 10000
A92: =A91+100 -> 8802 | B92: 蓝色独眼蝙蝠 | C92: 随机关卡5第8波 | D92: 10044 | F92: 54550000 | G92: 810000 | H92: 3 | I92: [20127,20128,20129] | L92: 11000
A93: =A92+100 -> 8902 | B93: 紫色幽灵恶魔 | C93: 随机关卡5第9波 | D93: 10056 | F93: 60000000 | G93: 850000 | H93: 3 | I93: [20163,20164,20165] | L93: 12000
A94: =A93+100 -> 9002 | B94: 地精魔像 | C94: 随机关卡5第10波BOSS | D94: 20011 | E94: 1 | F94: 114550000 | G94: 980000 | H94: 4 | I94: [30031,30032,30033] | J94: [10018] | L94: 12000
A95: =A94+100 -> 9102 | B95: 小史莱姆（蓝） | C95: 随机关卡5第11波 | D95: 10022 | F95: 62730000 | G95: 850000 | H95: 3 | I95: [20061,20062,20063] | L95: 16000
A96: =A95+100 -> 9202 | B96: 骷髅小法师 | C96: 随机关卡5第12波 | D96: 10040 | F96: 76360000 | G96: 910000 | H96: 3 | I96: [20115,20116,20117] | L96: 18000
A97: =A96+100 -> 9302 | B97: 大史莱姆（黄） | C97: 随机关卡5第13波 | D97: 10025 | F97: 84550000 | G97: 950000 | H97: 3 | I97: [20070,20071,20072] | L97: 21000
A98: =A97+100 -> 9402 | B98: 女巫师（蓝） | C98: 随机关卡5第14波 | D98: 10032 | F98: 95450000 | G98: 1000000 | H98: 3 | I98: [20091,20092,20093] | L98: 22000
A99: =A98+100 -> 9502 | B99: 恶毒法师 | C99: 随机关卡5第15波BOSS | D99: 20018 | E99: 1 | F99: 141820000 | G99: 1070000 | H99: 4 | I99: [30052,30053,30054] | J99: [10051] | K99: [10011,10012] | L99: 24000
A100: =A99+100 -> 9602 | B100: 绿色蜥蜴剑士 | C100: 随机关卡5第16波 | D100: 10048 | F100: 109090000 | G100: 1060000 | H100: 3 | I100: [20139,20140,20141] | L100: 15000
...

Sheet Sheet2
C1: 普攻 | D1: 主动 | E1: 被动
A2: 哥布林匕首(蓝) | B2: 10001 | C2: [20001,20002,20003]
A3: 哥布林斧头(红) | B3: 10002 | C3: [20004,20005,20006]
A4: 哥布林匕首(紫) | B4: 10003 | C4: [20007,20008,20009]
A5: 哥布林棍棒(绿) | B5: 10004 | C5: [20010,20011,20012]
A6: 哥布林法师(蓝) | B6: 10005 | C6: [20013,20014,20015]
A7: 哥布林法师（绿） | B7: 10006 | C7: [20016,20017,20018]
A8: 哥布林法师（紫） | B8: 10007 | C8: [20019,20020,20021]
A9: 哥布林法师（红） | B9: 10008 | C9: [20022,20023,20024]
A10: 盾刀骷髅兵 | B10: 10009 | C10: [20025,20026,20027]
A11: 骷髅枪兵 | B11: 10010 | C11: [20028,20029,20030]
A12: 兽人大刀兵（绿） | B12: 10012 | C12: [20031,20032,20033]
A13: 兽人大刀兵（蓝） | B13: 10013 | C13: [20034,20035,20036]
... A77: 丑章鱼（红） | B77: 10077 | C77: [20220,20221,20222]
A79: 丛林神射手 | B79: 20001 | C79: [30001,30002,30003] | D79: [10020]
A80: 丛林神猎手 | B80: 20002 | C80: [30004,30005,30006] | D80: [10019]
A81: 王之巨龙 | B81: 20003 | C81: [30007,30008,30009] | D81: [10029] | E81: [10013]
A82: 精英哥布林（绿） | B82: 20004 | C82: [30010,30011,30012] | D82: [10015]
A83: 远古堡垒 | B83: 20005 | C83: [30013,30014,30015] | D83: [10024] | E83: [10012]
A84: 绿龟刚铠 | B84: 20006 | C84: [30016,30017,30018] | D84: [10033] | E84: [10010]
A85: 精英哥布林（红） | B85: 20007 | C85: [30019,30020,30021] | D85: [10060] | E85: [10061]
A86: 石巨人 | B86: 20008 | C86: [30022,30023,30024] | D86: [10032] | E86: [10009]
A87: 树精祭祀 | B87: 20009 | C87: [30025,30026,30027] | D87: [10039] | E87: [10010,10011]
A88: 火灵守卫 | B88: 20010 | C88: [30028,30029,30030] | D88: [10041,10066] | E88: [10008,10009,10013]
A89: 地精魔像 | B89: 20011 | C89: [30031,30032,30033] | D89: [10018]
A90: 骷髅王 | B90: 20012 | C90: [30034,30035,30036] | D90: [10017]
A91: 小丑之王 | B91: 20013 | C91: [30037,30038,30039] | D91: [10049,10050]
A92: 钢盾绿首领 | B92: 20014 | C92: [30040,30041,30042] | D92: [10016]
A93: 钢盾红首领 | B93: 20015 | C93: [30043,30044,30045] | D93: [10070] | E93: [10008]
A94: 独眼旋风 | B94: 20016 | C94: [30046,30047,30048] | D94: [10036] | E94: [10010,10011]
A95: 骷髅法师 | B95: 20017 | C95: [30049,30050,30051] | D95: [10027]
A96: 恶毒法师 | B96: 20018 | C96: [30052,30053,30054] | D96: [10051] | E96: [10011,10012]
A97: 火灵刀客 | B97: 20019 | C97: [30055,30056,30057] | D97: [10045] | E97: [10046,10013]
A98: 火灵王 | B98: 20020 | C98: [30058,30059,30060] | D98: [10047] | E98: [10048,10013]
A99: 卓一德DH | B99: 20021 | C99: [30061,30062,30063] | D99: [10034] | E99: [10011,10008]
A100: 雪人铁匠 | B100: 20022 | C100: [30064,30065,30066] | D100: [10023] | E100: [10013]
A101: 雪人精英 | B101: 20023
A102: 飞天魔 | B102: 20024 | C102: [30070,30071,30072] | D102: [10043,10044] | E102: [10012]
A103: 雪人铁匠（红） | B103: 20025 | C103: [30073,30074,30075] | D103: [10062] | E103: [10013]
A104: 雪人精英（红） | B104: 20026
A105: 巨紫龟 | B105: 20027 | C105: [30079,30080,30081] | D105: [10082]
A106: 冰巨人 | B106: 20028
A107: 地精炎魔像 | B107: 20029
A108: 魔神碎片 | B108: 20030 | C108: [30088,30089,30090] | D108: [10056,10057] | E108: [10014]
A109: 魔神守护者 | B109: 20031 | C109: [30091,30092,30093] | D109: [10058,10059] | E109: [10008,10011,10013]
A110: 远古魔神 | B110: 20032 | C110: [30094,30095,30096] | D110: [10052,10053,10054] | E110: [10008,10010,10013]
A111: 金币副本-金币矿车 | B111: 20033
A112: 烈焰甲虫 | B112: 20034 | C112: [30097,30098,30099] | D112: [10074,10075] | E112: [10013,10012]
A113: 熔岩巨兽 | B113: 20035 | C113: [30100,30101,30102,30113] | D113: [10076] | E113: [10011,10009]
A114: 鳄鱼统领 | B114: 20036 | C114: [30103,30104,30105] | D114: [10077,10078] | E114: [10011]
A115: 海象大副 | B115: 20037 | C115: [30106,30107,30108] | D115: [10079] | E115: [10013,10009,10084]
A116: 章鱼船长 | B116: 20038 | C116: [30109,30110,30111,30112] | D116: [10080,10081] | E116: [10083,10009,10011]
A117: 金-黄金灯灵 | B117: 20039
A118: 红-诅咒灯灵 | B118: 20040
A119: 紫-邪眸灯灵 | B119: 20041
A120: 蓝-霜峰灯灵 | B120: 20042
A121: 绿-古医灯灵 | B121: 20043
A122: 鲨鱼头领 | B122: 20044 | C122: [30147,30148,30149] | D122: [10130,10131] | E122: [10132,10013,10011]
A123: 黑暗一德 | B123: 20045 | C123: [30150,30151,30152] | D123: [10133,10134] | E123: [10012]
A124: 荧光海蟹 | B124: 20046 | C124: [30153,30154,30155] | D124: [10135,10136] | E124: [10012]
A125: 海之王 | B125: 20047 | C125: [30156,30157,30158] | D125: [10137,10138] | E125: [10013,10010]
A126: 遗迹守护者 | B126: 20048 | C126: [30159,30160,30161] | D126: [10139,10140] | E126: [10141,10014,10009]
A129: 绿R洋葱 | B129: 30001
A130: 黄R刀妹 | B130: 30002
A131: 蓝R冰心 | B131: 30003
A132: 紫R忍者伦 | B132: 30004
A133: 红R舞娘 | B133: 30005
A134: 绿SR小鹿 | B134: 30006
A135: 黄ssr巨剑魔童 | B135: 30007
A136: 蓝SSR冰霜妖姬 | B136: 30008
A137: 红SR-火旺 | B137: 30009
A138: 黄SR野蛮人 | B138: 30010
A139: 红SSR-亚历山大 | B139: 30011
A140: 黄SR二丫 | B140: 30012 | C140: [40005,40006,40007,40008] | D140: [10025,10026]
A141: 红SR-克劳德 | B141: 30014
A142: 紫SR魔女琪琪 | B142: 30015 | C142: [40025,40026,40027,40028] | D142: [10042]
A143: 绿SSR花木兰 | B143: 30016
A144: 黄SSR2-索尔 | B144: 30017
A145: 红SSR-潘达 | B145: 30018
A146: 紫SR灵魂猎手 | B146: 30019 | C146: [40029,40030,40031,40032] | D146: [10067,10068] | E146: [10013]
A147: 绿SR森林狼 | B147: 30020
A148: 蓝SR鸦姐 | B148: 30021
A149: 蓝SR冰女 | B149: 30022
A150: 紫SSR蝴蝶 | B150: 30023
A151: 绿SSR2-梦魔 | B151: 30024
A152: 蓝SSR2-艳后 | B152: 30025
A153: 紫SSR2-闪烁法师 | B153: 30026

Sheet Sheet3
